Package: MSstatsQCgui Version: 1.28.0 Command: /Library/Frameworks/R.framework/Resources/bin/R CMD INSTALL MSstatsQCgui StartedAt: 2025-10-13 17:05:35 -0400 (Mon, 13 Oct 2025) EndedAt: 2025-10-13 17:06:22 -0400 (Mon, 13 Oct 2025) EllapsedTime: 47.4 seconds RetCode: 0 Status: OK