Package: MSstatsQCgui Version: 1.28.0 Command: /Library/Frameworks/R.framework/Resources/bin/R CMD build --keep-empty-dirs --no-resave-data MSstatsQCgui StartedAt: 2025-10-14 05:14:34 -0400 (Tue, 14 Oct 2025) EndedAt: 2025-10-14 05:15:28 -0400 (Tue, 14 Oct 2025) EllapsedTime: 54.4 seconds RetCode: 0 Status: OK PackageFile: MSstatsQCgui_1.28.0.tar.gz PackageFileSize: 75.39 KiB