Package: MSstatsQCgui Version: 1.28.0 Command: rm -rf MSstatsQCgui.buildbin-libdir && mkdir MSstatsQCgui.buildbin-libdir && /Users/biocbuild/BBS/utils/build-universal.sh MSstatsQCgui_1.28.0.tar.gz /Library/Frameworks/R.framework/Resources/bin/R MSstatsQCgui.buildbin-libdir StartedAt: 2025-10-15 19:31:22 -0400 (Wed, 15 Oct 2025) EndedAt: 2025-10-15 19:32:13 -0400 (Wed, 15 Oct 2025) EllapsedTime: 51.1 seconds RetCode: 0 Status: OK PackageFile: MSstatsQCgui_1.28.0.tgz PackageFileSize: 85.42 KiB