Package: MSstatsQC Version: 2.28.0 Command: /home/biocbuild/bbs-3.22-bioc/R/bin/R CMD INSTALL MSstatsQC StartedAt: 2025-11-11 15:41:30 -0500 (Tue, 11 Nov 2025) EndedAt: 2025-11-11 15:42:09 -0500 (Tue, 11 Nov 2025) EllapsedTime: 39.4 seconds RetCode: 0 Status: OK