Package: MSstatsQC Version: 2.28.0 Command: /home/biocbuild/bbs-3.22-bioc/R/bin/R CMD build --keep-empty-dirs --no-resave-data --md5 MSstatsQC StartedAt: 2025-11-11 19:01:40 -0500 (Tue, 11 Nov 2025) EndedAt: 2025-11-11 19:02:54 -0500 (Tue, 11 Nov 2025) EllapsedTime: 74.1 seconds RetCode: 0 Status: OK PackageFile: MSstatsQC_2.28.0.tar.gz PackageFileSize: 2.211 MiB