Package: MSstatsQC Version: 2.26.0 Command: /home/biocbuild/bbs-3.21-bioc/R/bin/R CMD INSTALL MSstatsQC StartedAt: 2025-10-15 15:36:26 -0400 (Wed, 15 Oct 2025) EndedAt: 2025-10-15 15:37:07 -0400 (Wed, 15 Oct 2025) EllapsedTime: 40.4 seconds RetCode: 0 Status: OK