Package: MSstatsQC Version: 2.26.0 Command: /home/biocbuild/bbs-3.21-bioc/R/bin/R CMD build --keep-empty-dirs --no-resave-data MSstatsQC StartedAt: 2025-10-15 18:45:35 -0400 (Wed, 15 Oct 2025) EndedAt: 2025-10-15 18:46:50 -0400 (Wed, 15 Oct 2025) EllapsedTime: 74.1 seconds RetCode: 0 Status: OK PackageFile: MSstatsQC_2.26.0.tar.gz PackageFileSize: 2.209 MiB