Package: MSstatsQC Version: 2.26.0 Command: /home/biocbuild/R/R/bin/R CMD INSTALL MSstatsQC StartedAt: 2025-10-02 20:53:50 -0000 (Thu, 02 Oct 2025) EndedAt: 2025-10-02 20:54:43 -0000 (Thu, 02 Oct 2025) EllapsedTime: 53.1 seconds RetCode: 0 Status: OK