Package: MSstatsQC Version: 2.26.0 Command: /home/biocbuild/R/R/bin/R CMD build --keep-empty-dirs --no-resave-data MSstatsQC StartedAt: 2025-10-03 02:54:58 -0000 (Fri, 03 Oct 2025) EndedAt: 2025-10-03 02:56:38 -0000 (Fri, 03 Oct 2025) EllapsedTime: 100.0 seconds RetCode: 0 Status: OK PackageFile: MSstatsQC_2.26.0.tar.gz PackageFileSize: 2.686 MiB