Package: MSstatsQC Version: 2.26.0 Command: /Library/Frameworks/R.framework/Resources/bin/R CMD build --keep-empty-dirs --no-resave-data MSstatsQC StartedAt: 2025-10-14 05:14:28 -0400 (Tue, 14 Oct 2025) EndedAt: 2025-10-14 05:16:02 -0400 (Tue, 14 Oct 2025) EllapsedTime: 94.1 seconds RetCode: 0 Status: OK PackageFile: MSstatsQC_2.26.0.tar.gz PackageFileSize: 2.31 MiB