Package: MSstatsPTM Version: 2.12.0 Command: /home/biocbuild/bbs-3.22-bioc/R/bin/R CMD check --install=check:MSstatsPTM.install-out.txt --library=/home/biocbuild/bbs-3.22-bioc/R/site-library --timings MSstatsPTM_2.12.0.tar.gz StartedAt: 2025-11-18 06:24:38 -0500 (Tue, 18 Nov 2025) EndedAt: 2025-11-18 06:29:06 -0500 (Tue, 18 Nov 2025) EllapsedTime: 268.2 seconds RetCode: 0 Status: WARNINGS CheckDir: MSstatsPTM.Rcheck Warnings: 1