Package: MSstatsPTM Version: 2.12.0 Command: /Library/Frameworks/R.framework/Resources/bin/R CMD INSTALL MSstatsPTM StartedAt: 2025-11-03 15:23:10 -0500 (Mon, 03 Nov 2025) EndedAt: 2025-11-03 15:23:48 -0500 (Mon, 03 Nov 2025) EllapsedTime: 38.3 seconds RetCode: 0 Status: OK