Package: MSstatsPTM Version: 2.12.0 Command: /Library/Frameworks/R.framework/Resources/bin/R CMD build --keep-empty-dirs --no-resave-data MSstatsPTM StartedAt: 2025-11-03 17:57:21 -0500 (Mon, 03 Nov 2025) EndedAt: 2025-11-03 17:58:59 -0500 (Mon, 03 Nov 2025) EllapsedTime: 97.9 seconds RetCode: 0 Status: OK PackageFile: MSstatsPTM_2.12.0.tar.gz PackageFileSize: 2.879 MiB