Package: MSstatsPTM Version: 2.12.0 Command: rm -rf MSstatsPTM.buildbin-libdir && mkdir MSstatsPTM.buildbin-libdir && /Users/biocbuild/BBS/utils/build-universal.sh MSstatsPTM_2.12.0.tar.gz /Library/Frameworks/R.framework/Resources/bin/R MSstatsPTM.buildbin-libdir StartedAt: 2025-11-04 01:52:08 -0500 (Tue, 04 Nov 2025) EndedAt: 2025-11-04 01:52:51 -0500 (Tue, 04 Nov 2025) EllapsedTime: 42.5 seconds RetCode: 0 Status: OK PackageFile: MSstatsPTM_2.12.0.tgz PackageFileSize: 3.314 MiB