Package: MSstatsPTM Version: 2.10.3 Command: /home/biocbuild/R/R/bin/R CMD INSTALL MSstatsPTM StartedAt: 2025-10-13 20:39:09 -0000 (Mon, 13 Oct 2025) EndedAt: 2025-10-13 20:39:48 -0000 (Mon, 13 Oct 2025) EllapsedTime: 39.4 seconds RetCode: 0 Status: OK