Package: MSstatsPTM Version: 2.10.3 Command: /home/biocbuild/R/R/bin/R CMD build --keep-empty-dirs --no-resave-data MSstatsPTM StartedAt: 2025-10-14 02:54:23 -0000 (Tue, 14 Oct 2025) EndedAt: 2025-10-14 02:56:12 -0000 (Tue, 14 Oct 2025) EllapsedTime: 109.1 seconds RetCode: 0 Status: OK PackageFile: MSstatsPTM_2.10.3.tar.gz PackageFileSize: 2.573 MiB