Package: MSstatsLiP Version: 1.14.2 Command: /home/biocbuild/R/R/bin/R CMD INSTALL MSstatsLiP StartedAt: 2025-10-13 20:39:50 -0000 (Mon, 13 Oct 2025) EndedAt: 2025-10-13 20:40:26 -0000 (Mon, 13 Oct 2025) EllapsedTime: 36.3 seconds RetCode: 0 Status: OK