Package: MSstatsLOBD Version: 1.18.0 Command: /Library/Frameworks/R.framework/Resources/bin/R CMD build --keep-empty-dirs --no-resave-data MSstatsLOBD StartedAt: 2025-11-02 18:00:07 -0500 (Sun, 02 Nov 2025) EndedAt: 2025-11-02 18:00:49 -0500 (Sun, 02 Nov 2025) EllapsedTime: 41.3 seconds RetCode: 0 Status: OK PackageFile: MSstatsLOBD_1.18.0.tar.gz PackageFileSize: 339.8 KiB