Package: MSstatsLOBD Version: 1.18.0 Command: rm -rf MSstatsLOBD.buildbin-libdir && mkdir MSstatsLOBD.buildbin-libdir && /Users/biocbuild/BBS/utils/build-universal.sh MSstatsLOBD_1.18.0.tar.gz /Library/Frameworks/R.framework/Resources/bin/R MSstatsLOBD.buildbin-libdir StartedAt: 2025-11-01 01:45:51 -0400 (Sat, 01 Nov 2025) EndedAt: 2025-11-01 01:46:02 -0400 (Sat, 01 Nov 2025) EllapsedTime: 10.4 seconds RetCode: 0 Status: OK PackageFile: MSstatsLOBD_1.18.0.tgz PackageFileSize: 383.7 KiB