Package: MSstatsLOBD Version: 1.16.0 Command: /home/biocbuild/R/R/bin/R CMD INSTALL MSstatsLOBD StartedAt: 2025-10-06 20:19:24 -0000 (Mon, 06 Oct 2025) EndedAt: 2025-10-06 20:19:39 -0000 (Mon, 06 Oct 2025) EllapsedTime: 14.9 seconds RetCode: 0 Status: OK