Package: MSstatsLOBD Version: 1.16.0 Command: /home/biocbuild/R/R/bin/R CMD build --keep-empty-dirs --no-resave-data MSstatsLOBD StartedAt: 2025-10-07 02:58:04 -0000 (Tue, 07 Oct 2025) EndedAt: 2025-10-07 02:58:34 -0000 (Tue, 07 Oct 2025) EllapsedTime: 30.0 seconds RetCode: 0 Status: OK PackageFile: MSstatsLOBD_1.16.0.tar.gz PackageFileSize: 302.2 KiB