Package: MSstatsConvert Version: 1.20.0 Command: /home/biocbuild/bbs-3.22-bioc/R/bin/R CMD check --install=check:MSstatsConvert.install-out.txt --library=/home/biocbuild/bbs-3.22-bioc/R/site-library --timings MSstatsConvert_1.20.0.tar.gz StartedAt: 2025-11-21 02:33:08 -0500 (Fri, 21 Nov 2025) EndedAt: 2025-11-21 02:33:54 -0500 (Fri, 21 Nov 2025) EllapsedTime: 46.0 seconds RetCode: 0 Status: OK CheckDir: MSstatsConvert.Rcheck Warnings: 0