Package: MSstatsConvert Version: 1.20.0 Command: /Library/Frameworks/R.framework/Resources/bin/R CMD INSTALL MSstatsConvert StartedAt: 2025-11-03 15:09:29 -0500 (Mon, 03 Nov 2025) EndedAt: 2025-11-03 15:10:10 -0500 (Mon, 03 Nov 2025) EllapsedTime: 40.7 seconds RetCode: 0 Status: OK