Package: MSstatsConvert Version: 1.20.0 Command: /Library/Frameworks/R.framework/Resources/bin/R CMD build --keep-empty-dirs --no-resave-data MSstatsConvert StartedAt: 2025-11-03 17:56:57 -0500 (Mon, 03 Nov 2025) EndedAt: 2025-11-03 17:57:22 -0500 (Mon, 03 Nov 2025) EllapsedTime: 25.2 seconds RetCode: 0 Status: OK PackageFile: MSstatsConvert_1.20.0.tar.gz PackageFileSize: 2.106 MiB