Package: MSstatsConvert Version: 1.20.0 Command: rm -rf MSstatsConvert.buildbin-libdir && mkdir MSstatsConvert.buildbin-libdir && /Users/biocbuild/BBS/utils/build-universal.sh MSstatsConvert_1.20.0.tar.gz /Library/Frameworks/R.framework/Resources/bin/R MSstatsConvert.buildbin-libdir StartedAt: 2025-11-04 01:52:05 -0500 (Tue, 04 Nov 2025) EndedAt: 2025-11-04 01:52:24 -0500 (Tue, 04 Nov 2025) EllapsedTime: 19.6 seconds RetCode: 0 Status: OK PackageFile: MSstatsConvert_1.20.0.tgz PackageFileSize: 2.486 MiB