Package: MSstatsConvert Version: 1.18.1 Command: /home/biocbuild/R/R/bin/R CMD INSTALL MSstatsConvert StartedAt: 2025-10-13 20:12:56 -0000 (Mon, 13 Oct 2025) EndedAt: 2025-10-13 20:13:16 -0000 (Mon, 13 Oct 2025) EllapsedTime: 20.0 seconds RetCode: 0 Status: OK