Package: MSstatsConvert Version: 1.18.1 Command: /home/biocbuild/R/R/bin/R CMD build --keep-empty-dirs --no-resave-data MSstatsConvert StartedAt: 2025-10-14 02:53:55 -0000 (Tue, 14 Oct 2025) EndedAt: 2025-10-14 02:54:06 -0000 (Tue, 14 Oct 2025) EllapsedTime: 11.0 seconds RetCode: 0 Status: OK PackageFile: MSstatsConvert_1.18.1.tar.gz PackageFileSize: 1.782 MiB