Package: MSstatsBioNet Version: 1.2.0 Command: /home/biocbuild/R/R/bin/R CMD INSTALL MSstatsBioNet StartedAt: 2025-11-10 21:21:14 -0000 (Mon, 10 Nov 2025) EndedAt: 2025-11-10 21:21:36 -0000 (Mon, 10 Nov 2025) EllapsedTime: 21.2 seconds RetCode: 0 Status: OK