Package: MSstatsBioNet Version: 1.0.0 Command: /Library/Frameworks/R.framework/Resources/bin/R CMD INSTALL MSstatsBioNet StartedAt: 2025-09-25 18:29:58 -0400 (Thu, 25 Sep 2025) EndedAt: 2025-09-25 18:30:14 -0400 (Thu, 25 Sep 2025) EllapsedTime: 16.3 seconds RetCode: 0 Status: OK