Package: MSstatsBioNet Version: 1.0.0 Command: /Library/Frameworks/R.framework/Resources/bin/R CMD build --keep-empty-dirs --no-resave-data MSstatsBioNet StartedAt: 2025-09-26 05:03:52 -0400 (Fri, 26 Sep 2025) EndedAt: 2025-09-26 05:04:20 -0400 (Fri, 26 Sep 2025) EllapsedTime: 28.9 seconds RetCode: 0 Status: OK PackageFile: MSstatsBioNet_1.0.0.tar.gz PackageFileSize: 277.2 KiB