Package: MSstatsBig Version: 1.8.0 Command: /home/biocbuild/bbs-3.22-bioc/R/bin/R CMD check --install=check:MSstatsBig.install-out.txt --library=/home/biocbuild/bbs-3.22-bioc/R/site-library --timings MSstatsBig_1.8.0.tar.gz StartedAt: 2025-11-15 02:12:13 -0500 (Sat, 15 Nov 2025) EndedAt: 2025-11-15 02:13:35 -0500 (Sat, 15 Nov 2025) EllapsedTime: 82.1 seconds RetCode: 0 Status: OK CheckDir: MSstatsBig.Rcheck Warnings: 0