Package: MSstatsBig Version: 1.8.0 Command: /home/biocbuild/bbs-3.22-bioc/R/bin/R CMD build --keep-empty-dirs --no-resave-data --md5 MSstatsBig StartedAt: 2025-11-11 19:01:10 -0500 (Tue, 11 Nov 2025) EndedAt: 2025-11-11 19:01:26 -0500 (Tue, 11 Nov 2025) EllapsedTime: 16.0 seconds RetCode: 0 Status: OK PackageFile: MSstatsBig_1.8.0.tar.gz PackageFileSize: 70.94 KiB