Package: MSstatsBig Version: 1.6.0 Command: /Library/Frameworks/R.framework/Resources/bin/R CMD INSTALL MSstatsBig StartedAt: 2025-10-13 15:32:53 -0400 (Mon, 13 Oct 2025) EndedAt: 2025-10-13 15:33:04 -0400 (Mon, 13 Oct 2025) EllapsedTime: 10.9 seconds RetCode: 0 Status: OK