Package: MSstats Version: 4.18.0 Command: /home/biocbuild/bbs-3.22-bioc/R/bin/R CMD build --keep-empty-dirs --no-resave-data --md5 MSstats StartedAt: 2025-11-11 19:00:45 -0500 (Tue, 11 Nov 2025) EndedAt: 2025-11-11 19:02:00 -0500 (Tue, 11 Nov 2025) EllapsedTime: 75.1 seconds RetCode: 0 Status: OK PackageFile: MSstats_4.18.0.tar.gz PackageFileSize: 525.6 KiB