Package: MSnbase Version: 2.36.0 Command: /home/biocbuild/R/R/bin/R CMD build --keep-empty-dirs --no-resave-data MSnbase StartedAt: 2025-11-18 03:27:05 -0000 (Tue, 18 Nov 2025) EndedAt: 2025-11-18 03:31:40 -0000 (Tue, 18 Nov 2025) EllapsedTime: 275.3 seconds RetCode: 0 Status: OK PackageFile: MSnbase_2.36.0.tar.gz PackageFileSize: 6.195 MiB