Package: MSnbase Version: 2.36.0 Command: /home/biocbuild/bbs-3.22-bioc/R/bin/R CMD INSTALL MSnbase StartedAt: 2025-11-11 15:39:58 -0500 (Tue, 11 Nov 2025) EndedAt: 2025-11-11 15:41:13 -0500 (Tue, 11 Nov 2025) EllapsedTime: 74.7 seconds RetCode: 0 Status: OK