Package: MSnbase Version: 2.36.0 Command: /home/biocbuild/bbs-3.22-bioc/R/bin/R CMD check --install=check:MSnbase.install-out.txt --library=/home/biocbuild/bbs-3.22-bioc/R/site-library --timings MSnbase_2.36.0.tar.gz StartedAt: 2025-11-12 01:52:44 -0500 (Wed, 12 Nov 2025) EndedAt: 2025-11-12 02:10:39 -0500 (Wed, 12 Nov 2025) EllapsedTime: 1075.1 seconds RetCode: 0 Status: OK CheckDir: MSnbase.Rcheck Warnings: 0