Package: MSnbase Version: 2.34.1 Command: /home/biocbuild/bbs-3.21-bioc/R/bin/R CMD INSTALL MSnbase StartedAt: 2025-10-15 15:34:50 -0400 (Wed, 15 Oct 2025) EndedAt: 2025-10-15 15:36:05 -0400 (Wed, 15 Oct 2025) EllapsedTime: 75.2 seconds RetCode: 0 Status: OK