Package: MSnbase Version: 2.34.1 Command: /home/biocbuild/bbs-3.21-bioc/R/bin/R CMD build --keep-empty-dirs --no-resave-data MSnbase StartedAt: 2025-10-15 18:43:46 -0400 (Wed, 15 Oct 2025) EndedAt: 2025-10-15 18:46:55 -0400 (Wed, 15 Oct 2025) EllapsedTime: 188.2 seconds RetCode: 0 Status: OK PackageFile: MSnbase_2.34.1.tar.gz PackageFileSize: 7.616 MiB