Package: MSnbase Version: 2.34.1 Command: /Library/Frameworks/R.framework/Resources/bin/R CMD INSTALL MSnbase StartedAt: 2025-10-13 17:02:54 -0400 (Mon, 13 Oct 2025) EndedAt: 2025-10-13 17:04:20 -0400 (Mon, 13 Oct 2025) EllapsedTime: 86.1 seconds RetCode: 0 Status: OK