Package: MSnbase Version: 2.34.1 Command: /Library/Frameworks/R.framework/Resources/bin/R CMD build --keep-empty-dirs --no-resave-data MSnbase StartedAt: 2025-10-14 05:08:46 -0400 (Tue, 14 Oct 2025) EndedAt: 2025-10-14 05:12:56 -0400 (Tue, 14 Oct 2025) EllapsedTime: 249.9 seconds RetCode: 0 Status: OK PackageFile: MSnbase_2.34.1.tar.gz PackageFileSize: 7.486 MiB