Package: MSnbase Version: 2.34.1 Maintainer: Laurent Gatto MaintainerEmail: laurent.gatto at uclouvain.be git_url: https://git.bioconductor.org/packages/MSnbase git_branch: RELEASE_3_21 git_last_commit: befc867 git_last_commit_date: 2025-05-08 12:29:03 -0400 (Thu, 08 May 2025)