Package: MSPrep Version: 1.20.0 Command: /home/biocbuild/bbs-3.22-bioc/R/bin/R CMD INSTALL MSPrep StartedAt: 2025-11-11 16:04:18 -0500 (Tue, 11 Nov 2025) EndedAt: 2025-11-11 16:04:52 -0500 (Tue, 11 Nov 2025) EllapsedTime: 33.3 seconds RetCode: 0 Status: OK