Package: MSPrep Version: 1.20.0 Command: /home/biocbuild/bbs-3.22-bioc/R/bin/R CMD check --install=check:MSPrep.install-out.txt --library=/home/biocbuild/bbs-3.22-bioc/R/site-library --timings MSPrep_1.20.0.tar.gz StartedAt: 2025-11-12 01:53:57 -0500 (Wed, 12 Nov 2025) EndedAt: 2025-11-12 02:02:16 -0500 (Wed, 12 Nov 2025) EllapsedTime: 499.4 seconds RetCode: 1 Status: ERROR CheckDir: MSPrep.Rcheck Warnings: NA