Package: MSPrep Version: 1.20.0 Command: /home/biocbuild/bbs-3.22-bioc/R/bin/R CMD build --keep-empty-dirs --no-resave-data --md5 MSPrep StartedAt: 2025-11-11 18:59:45 -0500 (Tue, 11 Nov 2025) EndedAt: 2025-11-11 19:01:57 -0500 (Tue, 11 Nov 2025) EllapsedTime: 132.1 seconds RetCode: 0 Status: OK PackageFile: MSPrep_1.20.0.tar.gz PackageFileSize: 1.576 MiB