Package: MSPrep Version: 1.18.0 Command: /Library/Frameworks/R.framework/Resources/bin/R CMD INSTALL MSPrep StartedAt: 2025-04-21 15:46:33 -0400 (Mon, 21 Apr 2025) EndedAt: 2025-04-21 15:47:19 -0400 (Mon, 21 Apr 2025) EllapsedTime: 45.6 seconds RetCode: 0 Status: OK