Package: MSPrep Version: 1.18.0 Command: /home/biocbuild/R/R/bin/R CMD INSTALL MSPrep StartedAt: 2025-09-25 21:17:50 -0000 (Thu, 25 Sep 2025) EndedAt: 2025-09-25 21:18:38 -0000 (Thu, 25 Sep 2025) EllapsedTime: 47.4 seconds RetCode: 0 Status: OK