Package: MSPrep Version: 1.18.0 Command: /home/biocbuild/R/R/bin/R CMD build --keep-empty-dirs --no-resave-data MSPrep StartedAt: 2025-09-26 04:14:05 -0000 (Fri, 26 Sep 2025) EndedAt: 2025-09-26 04:17:38 -0000 (Fri, 26 Sep 2025) EllapsedTime: 213.1 seconds RetCode: 0 Status: OK PackageFile: MSPrep_1.18.0.tar.gz PackageFileSize: 1.64 MiB