Package: MSPrep Version: 1.18.0 Command: /Library/Frameworks/R.framework/Resources/bin/R CMD INSTALL MSPrep StartedAt: 2025-04-21 15:31:01 -0400 (Mon, 21 Apr 2025) EndedAt: 2025-04-21 15:31:16 -0400 (Mon, 21 Apr 2025) EllapsedTime: 14.3 seconds RetCode: 0 Status: OK