Package: MSPrep Version: 1.18.0 Command: /Library/Frameworks/R.framework/Resources/bin/R CMD INSTALL MSPrep StartedAt: 2025-10-13 18:30:29 -0400 (Mon, 13 Oct 2025) EndedAt: 2025-10-13 18:31:08 -0400 (Mon, 13 Oct 2025) EllapsedTime: 39.3 seconds RetCode: 0 Status: OK